BEGIN:VCALENDAR
VERSION:2.0
PRODID:-//wp-events-plugin.com//7.2.3.1//EN
TZID:Europe/Madrid
X-WR-TIMEZONE:Europe/Madrid
BEGIN:VEVENT
UID:111@tantrawoman.com
DTSTART;TZID=Europe/Madrid:20260515T180000
DTEND;TZID=Europe/Madrid:20260520T160000
DTSTAMP:20260420T144533Z
URL:https://www.tantrawoman.com/events/retreat-for-couples/
SUMMARY:Retreat for Couples\, SOL module
DESCRIPTION:To book right now\, contact us at our email address: tantrawoma
 nspain@gmail.com
ATTACH;FMTTYPE=image/jpeg:https://www.tantrawoman.com/wp-content/uploads/W
 hatsApp-Image-2026-04-01-at-13.45.12.jpeg
LOCATION:https://www.masjuli.com/
END:VEVENT
BEGIN:VEVENT
UID:118@tantrawoman.com
DTSTART;TZID=Europe/Madrid:20260706T180000
DTEND;TZID=Europe/Madrid:20260712T160000
DTSTAMP:20260420T144602Z
URL:https://www.tantrawoman.com/events/green-tara-intuition-creativity/
SUMMARY:GREEN TARA: INTUITION & CREATIVITY
DESCRIPTION:To book right now\, contact us at our email address: tantrawoma
 nspain@gmail.com\n
ATTACH;FMTTYPE=image/jpeg:https://www.tantrawoman.com/wp-content/uploads/W
 hatsApp-Image-2026-04-14-at-12.43.34-3.jpeg
LOCATION:https://www.hortdelariera.com/
END:VEVENT
BEGIN:VEVENT
UID:115@tantrawoman.com
DTSTART;TZID=Europe/Madrid:20260928T180000
DTEND;TZID=Europe/Madrid:20261004T160000
DTSTAMP:20260420T144605Z
URL:https://www.tantrawoman.com/events/yellow-tara-icarnate-joy-2/
SUMMARY:YELLOW TARA: Icarnate Joy
DESCRIPTION:To book right now\, contact us at our email address: tantrawoma
 nspain@gmail.com\n
ATTACH;FMTTYPE=image/jpeg:https://www.tantrawoman.com/wp-content/uploads/W
 hatsApp-Image-2026-04-14-at-12.43.52-1.jpeg
LOCATION:https://www.hortdelariera.com/
END:VEVENT
BEGIN:VTIMEZONE
TZID:Europe/Madrid
X-LIC-LOCATION:Europe/Madrid
BEGIN:DAYLIGHT
DTSTART:20260329T030000
TZOFFSETFROM:+0100
TZOFFSETTO:+0200
TZNAME:CEST
END:DAYLIGHT
END:VTIMEZONE
END:VCALENDAR